BEGIN:VCALENDAR
VERSION:2.0
PRODID:-//Sydney St Pauls Congregation, NSW - ECPv6.15.14//NONSGML v1.0//EN
CALSCALE:GREGORIAN
METHOD:PUBLISH
X-WR-CALNAME:Sydney St Pauls Congregation, NSW
X-ORIGINAL-URL:https://sydney.lutheran.org.au
X-WR-CALDESC:Events for Sydney St Pauls Congregation, NSW
REFRESH-INTERVAL;VALUE=DURATION:PT1H
X-Robots-Tag:noindex
X-PUBLISHED-TTL:PT1H
BEGIN:VTIMEZONE
TZID:Australia/Sydney
BEGIN:STANDARD
TZOFFSETFROM:+1100
TZOFFSETTO:+1000
TZNAME:AEST
DTSTART:20210403T160000
END:STANDARD
BEGIN:DAYLIGHT
TZOFFSETFROM:+1000
TZOFFSETTO:+1100
TZNAME:AEDT
DTSTART:20211002T160000
END:DAYLIGHT
BEGIN:STANDARD
TZOFFSETFROM:+1100
TZOFFSETTO:+1000
TZNAME:AEST
DTSTART:20220402T160000
END:STANDARD
BEGIN:DAYLIGHT
TZOFFSETFROM:+1000
TZOFFSETTO:+1100
TZNAME:AEDT
DTSTART:20221001T160000
END:DAYLIGHT
BEGIN:STANDARD
TZOFFSETFROM:+1100
TZOFFSETTO:+1000
TZNAME:AEST
DTSTART:20230401T160000
END:STANDARD
BEGIN:DAYLIGHT
TZOFFSETFROM:+1000
TZOFFSETTO:+1100
TZNAME:AEDT
DTSTART:20230930T160000
END:DAYLIGHT
BEGIN:STANDARD
TZOFFSETFROM:+1100
TZOFFSETTO:+1000
TZNAME:AEST
DTSTART:20240406T160000
END:STANDARD
BEGIN:DAYLIGHT
TZOFFSETFROM:+1000
TZOFFSETTO:+1100
TZNAME:AEDT
DTSTART:20241005T160000
END:DAYLIGHT
BEGIN:STANDARD
TZOFFSETFROM:+1100
TZOFFSETTO:+1000
TZNAME:AEST
DTSTART:20250405T160000
END:STANDARD
BEGIN:DAYLIGHT
TZOFFSETFROM:+1000
TZOFFSETTO:+1100
TZNAME:AEDT
DTSTART:20251004T160000
END:DAYLIGHT
END:VTIMEZONE
BEGIN:VEVENT
DTSTART;TZID=Australia/Sydney:20240810T103000
DTEND;TZID=Australia/Sydney:20240810T120000
DTSTAMP:20260420T043130
CREATED:20250815T081555Z
LAST-MODIFIED:20250815T081555Z
UID:10000145-1723285800-1723291200@sydney.lutheran.org.au
SUMMARY:Worship Face to Face and Online @ 10:30 AM
DESCRIPTION:St Paul’s Sydney Lutheran Church meets every Sunday for worship at 10:30 AM. \nWe offer worship opportunities in person and online. \nTo worship in person at 3 Stanley\, St Darlinghurst: \nWe are about a 5 minute walk from the Museum train station on the T8 line\, or a 15 minute walk from Town Hall. \nThe closest car park is at Wilsons Car Parking – 70 Riley St Darlinghurst – it is best to prebook if you plan to use this car park. \n\nTo worship online: \n\nvisit our Youtube channel\nor our ChurchOnline Site\n\nEach week there is also a Kids Worship Pack available here. \n\nIf you have any questions\, please feel free to call 02 9331 1822\, or email secretary@stpaulssydney.org.
URL:https://sydney.lutheran.org.au/event/worship-face-to-face-and-online-1030-am-3/2024-08-10/
LOCATION:St Paul’s Sydney Lutheran Church\, 3 Stanley Street\, Darlinghurst\, NSW\, 2010\, Australia
CATEGORIES:Worship
ATTACH;FMTTYPE=image/jpeg:https://sydney.lutheran.org.au/wp-content/uploads/2024/08/1000006513.jpg
ORGANIZER;CN="Pastor Richard Schwedes":MAILTO:pastor@stpaulssydney.org
GEO:-33.8755724;151.2129371
X-APPLE-STRUCTURED-LOCATION;VALUE=URI;X-ADDRESS=St Paul’s Sydney Lutheran Church 3 Stanley Street Darlinghurst NSW 2010 Australia;X-APPLE-RADIUS=500;X-TITLE=3 Stanley Street:geo:151.2129371,-33.8755724
END:VEVENT
BEGIN:VEVENT
DTSTART;TZID=Australia/Sydney:20240803T103000
DTEND;TZID=Australia/Sydney:20240803T120000
DTSTAMP:20260420T043130
CREATED:20250815T081555Z
LAST-MODIFIED:20250815T081555Z
UID:10000144-1722681000-1722686400@sydney.lutheran.org.au
SUMMARY:Worship Face to Face and Online @ 10:30 AM
DESCRIPTION:St Paul’s Sydney Lutheran Church meets every Sunday for worship at 10:30 AM. \nWe offer worship opportunities in person and online. \nTo worship in person at 3 Stanley\, St Darlinghurst: \nWe are about a 5 minute walk from the Museum train station on the T8 line\, or a 15 minute walk from Town Hall. \nThe closest car park is at Wilsons Car Parking – 70 Riley St Darlinghurst – it is best to prebook if you plan to use this car park. \n\nTo worship online: \n\nvisit our Youtube channel\nor our ChurchOnline Site\n\nEach week there is also a Kids Worship Pack available here. \n\nIf you have any questions\, please feel free to call 02 9331 1822\, or email secretary@stpaulssydney.org.
URL:https://sydney.lutheran.org.au/event/worship-face-to-face-and-online-1030-am-3/2024-08-03/
LOCATION:St Paul’s Sydney Lutheran Church\, 3 Stanley Street\, Darlinghurst\, NSW\, 2010\, Australia
CATEGORIES:Worship
ATTACH;FMTTYPE=image/jpeg:https://sydney.lutheran.org.au/wp-content/uploads/2024/08/1000006513.jpg
ORGANIZER;CN="Pastor Richard Schwedes":MAILTO:pastor@stpaulssydney.org
GEO:-33.8755724;151.2129371
X-APPLE-STRUCTURED-LOCATION;VALUE=URI;X-ADDRESS=St Paul’s Sydney Lutheran Church 3 Stanley Street Darlinghurst NSW 2010 Australia;X-APPLE-RADIUS=500;X-TITLE=3 Stanley Street:geo:151.2129371,-33.8755724
END:VEVENT
BEGIN:VEVENT
DTSTART;TZID=Australia/Sydney:20240727T103000
DTEND;TZID=Australia/Sydney:20240727T120000
DTSTAMP:20260420T043130
CREATED:20250815T081555Z
LAST-MODIFIED:20250815T081555Z
UID:10000143-1722076200-1722081600@sydney.lutheran.org.au
SUMMARY:Worship Face to Face and Online @ 10:30 AM
DESCRIPTION:St Paul’s Sydney Lutheran Church meets every Sunday for worship at 10:30 AM. \nWe offer worship opportunities in person and online. \nTo worship in person at 3 Stanley\, St Darlinghurst: \nWe are about a 5 minute walk from the Museum train station on the T8 line\, or a 15 minute walk from Town Hall. \nThe closest car park is at Wilsons Car Parking – 70 Riley St Darlinghurst – it is best to prebook if you plan to use this car park. \n\nTo worship online: \n\nvisit our Youtube channel\nor our ChurchOnline Site\n\nEach week there is also a Kids Worship Pack available here. \n\nIf you have any questions\, please feel free to call 02 9331 1822\, or email secretary@stpaulssydney.org.
URL:https://sydney.lutheran.org.au/event/worship-face-to-face-and-online-1030-am-3/2024-07-27/
LOCATION:St Paul’s Sydney Lutheran Church\, 3 Stanley Street\, Darlinghurst\, NSW\, 2010\, Australia
CATEGORIES:Worship
ATTACH;FMTTYPE=image/jpeg:https://sydney.lutheran.org.au/wp-content/uploads/2024/08/1000006513.jpg
ORGANIZER;CN="Pastor Richard Schwedes":MAILTO:pastor@stpaulssydney.org
GEO:-33.8755724;151.2129371
X-APPLE-STRUCTURED-LOCATION;VALUE=URI;X-ADDRESS=St Paul’s Sydney Lutheran Church 3 Stanley Street Darlinghurst NSW 2010 Australia;X-APPLE-RADIUS=500;X-TITLE=3 Stanley Street:geo:151.2129371,-33.8755724
END:VEVENT
BEGIN:VEVENT
DTSTART;TZID=Australia/Sydney:20240720T103000
DTEND;TZID=Australia/Sydney:20240720T120000
DTSTAMP:20260420T043130
CREATED:20250815T081555Z
LAST-MODIFIED:20250815T081555Z
UID:10000142-1721471400-1721476800@sydney.lutheran.org.au
SUMMARY:Worship Face to Face and Online @ 10:30 AM
DESCRIPTION:St Paul’s Sydney Lutheran Church meets every Sunday for worship at 10:30 AM. \nWe offer worship opportunities in person and online. \nTo worship in person at 3 Stanley\, St Darlinghurst: \nWe are about a 5 minute walk from the Museum train station on the T8 line\, or a 15 minute walk from Town Hall. \nThe closest car park is at Wilsons Car Parking – 70 Riley St Darlinghurst – it is best to prebook if you plan to use this car park. \n\nTo worship online: \n\nvisit our Youtube channel\nor our ChurchOnline Site\n\nEach week there is also a Kids Worship Pack available here. \n\nIf you have any questions\, please feel free to call 02 9331 1822\, or email secretary@stpaulssydney.org.
URL:https://sydney.lutheran.org.au/event/worship-face-to-face-and-online-1030-am-3/2024-07-20/
LOCATION:St Paul’s Sydney Lutheran Church\, 3 Stanley Street\, Darlinghurst\, NSW\, 2010\, Australia
CATEGORIES:Worship
ATTACH;FMTTYPE=image/jpeg:https://sydney.lutheran.org.au/wp-content/uploads/2024/08/1000006513.jpg
ORGANIZER;CN="Pastor Richard Schwedes":MAILTO:pastor@stpaulssydney.org
GEO:-33.8755724;151.2129371
X-APPLE-STRUCTURED-LOCATION;VALUE=URI;X-ADDRESS=St Paul’s Sydney Lutheran Church 3 Stanley Street Darlinghurst NSW 2010 Australia;X-APPLE-RADIUS=500;X-TITLE=3 Stanley Street:geo:151.2129371,-33.8755724
END:VEVENT
BEGIN:VEVENT
DTSTART;TZID=Australia/Sydney:20240713T103000
DTEND;TZID=Australia/Sydney:20240713T120000
DTSTAMP:20260420T043130
CREATED:20250815T081555Z
LAST-MODIFIED:20250815T081555Z
UID:10000141-1720866600-1720872000@sydney.lutheran.org.au
SUMMARY:Worship Face to Face and Online @ 10:30 AM
DESCRIPTION:St Paul’s Sydney Lutheran Church meets every Sunday for worship at 10:30 AM. \nWe offer worship opportunities in person and online. \nTo worship in person at 3 Stanley\, St Darlinghurst: \nWe are about a 5 minute walk from the Museum train station on the T8 line\, or a 15 minute walk from Town Hall. \nThe closest car park is at Wilsons Car Parking – 70 Riley St Darlinghurst – it is best to prebook if you plan to use this car park. \n\nTo worship online: \n\nvisit our Youtube channel\nor our ChurchOnline Site\n\nEach week there is also a Kids Worship Pack available here. \n\nIf you have any questions\, please feel free to call 02 9331 1822\, or email secretary@stpaulssydney.org.
URL:https://sydney.lutheran.org.au/event/worship-face-to-face-and-online-1030-am-3/2024-07-13/
LOCATION:St Paul’s Sydney Lutheran Church\, 3 Stanley Street\, Darlinghurst\, NSW\, 2010\, Australia
CATEGORIES:Worship
ATTACH;FMTTYPE=image/jpeg:https://sydney.lutheran.org.au/wp-content/uploads/2024/08/1000006513.jpg
ORGANIZER;CN="Pastor Richard Schwedes":MAILTO:pastor@stpaulssydney.org
GEO:-33.8755724;151.2129371
X-APPLE-STRUCTURED-LOCATION;VALUE=URI;X-ADDRESS=St Paul’s Sydney Lutheran Church 3 Stanley Street Darlinghurst NSW 2010 Australia;X-APPLE-RADIUS=500;X-TITLE=3 Stanley Street:geo:151.2129371,-33.8755724
END:VEVENT
BEGIN:VEVENT
DTSTART;TZID=Australia/Sydney:20240709T103000
DTEND;TZID=Australia/Sydney:20240709T120000
DTSTAMP:20260420T043130
CREATED:20250815T081555Z
LAST-MODIFIED:20250815T081555Z
UID:10000140-1720521000-1720526400@sydney.lutheran.org.au
SUMMARY:Worship Face to Face and Online @ 10:30 AM
DESCRIPTION:St Paul’s Sydney Lutheran Church meets every Sunday for worship at 10:30 AM. \nWe offer worship opportunities in person and online. \nTo worship in person at 3 Stanley\, St Darlinghurst: \nWe are about a 5 minute walk from the Museum train station on the T8 line\, or a 15 minute walk from Town Hall. \nThe closest car park is at Wilsons Car Parking – 70 Riley St Darlinghurst – it is best to prebook if you plan to use this car park. \n\nTo worship online: \n\nvisit our Youtube channel\nor our ChurchOnline Site\n\nEach week there is also a Kids Worship Pack available here. \n\nIf you have any questions\, please feel free to call 02 9331 1822\, or email secretary@stpaulssydney.org.
URL:https://sydney.lutheran.org.au/event/worship-face-to-face-and-online-1030-am-3/2024-07-09/
LOCATION:St Paul’s Sydney Lutheran Church\, 3 Stanley Street\, Darlinghurst\, NSW\, 2010\, Australia
CATEGORIES:Worship
ATTACH;FMTTYPE=image/jpeg:https://sydney.lutheran.org.au/wp-content/uploads/2024/08/1000006513.jpg
ORGANIZER;CN="Pastor Richard Schwedes":MAILTO:pastor@stpaulssydney.org
GEO:-33.8755724;151.2129371
X-APPLE-STRUCTURED-LOCATION;VALUE=URI;X-ADDRESS=St Paul’s Sydney Lutheran Church 3 Stanley Street Darlinghurst NSW 2010 Australia;X-APPLE-RADIUS=500;X-TITLE=3 Stanley Street:geo:151.2129371,-33.8755724
END:VEVENT
BEGIN:VEVENT
DTSTART;TZID=Australia/Sydney:20240622T100000
DTEND;TZID=Australia/Sydney:20240622T120000
DTSTAMP:20260420T043130
CREATED:20240612T220057Z
LAST-MODIFIED:20240613T190456Z
UID:10000082-1719050400-1719057600@sydney.lutheran.org.au
SUMMARY:St Paul's Men's Breakfast
DESCRIPTION:St Paul’s Men’s Breakfast\nMeeting 10 AM\nat St Paul’s Sydney Lutheran Church \nContact Dan for more information:\n0406 607 282
URL:https://sydney.lutheran.org.au/event/st-pauls-mens-breakfast/
LOCATION:St Paul’s Sydney Lutheran Church\, 3 Stanley Street\, Darlinghurst\, NSW\, 2010\, Australia
CATEGORIES:Community,Men
ATTACH;FMTTYPE=image/png:https://sydney.lutheran.org.au/wp-content/uploads/2023/09/Mens-Breakfast.png
GEO:-33.8755724;151.2129371
X-APPLE-STRUCTURED-LOCATION;VALUE=URI;X-ADDRESS=St Paul’s Sydney Lutheran Church 3 Stanley Street Darlinghurst NSW 2010 Australia;X-APPLE-RADIUS=500;X-TITLE=3 Stanley Street:geo:151.2129371,-33.8755724
END:VEVENT
BEGIN:VEVENT
DTSTART;TZID=Australia/Sydney:20240525T140000
DTEND;TZID=Australia/Sydney:20240525T170000
DTSTAMP:20260420T043130
CREATED:20240430T220000Z
LAST-MODIFIED:20240519T113637Z
UID:10000083-1716645600-1716656400@sydney.lutheran.org.au
SUMMARY:Ladies' High Tea
DESCRIPTION:Come enjoy a delightful spread and cuppa tea\, coffee\, chai or chocolate while chatting about how we can flourish as Christians in this world touched by negativity and hopelessness. \nWe will be engaging in a Biblical devotional study based on The Fight to Flourish by Jennie Lusko. \nAll Ladies Welcome! \nNext meeting: Saturday 25th May \nText your interest to Veronica – 0416 246 872
URL:https://sydney.lutheran.org.au/event/ladies-high-tea/
LOCATION:The Manse 1 Stanley Street\, 1 Stanley St\, Darlinghurst\, NSW\, 2010\, Australia
CATEGORIES:Connect Group,Ladies
ATTACH;FMTTYPE=image/png:https://sydney.lutheran.org.au/wp-content/uploads/2024/05/Ladies-Tea-T2.png
ORGANIZER;CN="Veronica Schwedes":MAILTO:vlschwedes@gmail.com
GEO:-33.8755776;151.2128605
X-APPLE-STRUCTURED-LOCATION;VALUE=URI;X-ADDRESS=The Manse 1 Stanley Street 1 Stanley St Darlinghurst NSW 2010 Australia;X-APPLE-RADIUS=500;X-TITLE=1 Stanley St:geo:151.2128605,-33.8755776
END:VEVENT
BEGIN:VEVENT
DTSTART;TZID=Australia/Sydney:20240504T180000
DTEND;TZID=Australia/Sydney:20240504T200000
DTSTAMP:20260420T043130
CREATED:20240413T012103Z
LAST-MODIFIED:20240413T012254Z
UID:10000084-1714845600-1714852800@sydney.lutheran.org.au
SUMMARY:Community Dinner
DESCRIPTION:May 4th at 6pm\n(dinner at 6:30pm) \nTo book or for more information\, please contact Bridgitte: \nbridgitte@stpaulssydney.org or 0428 175 830
URL:https://sydney.lutheran.org.au/event/community-dinner/
LOCATION:St Paul’s Sydney Lutheran Church\, 3 Stanley Street\, Darlinghurst\, NSW\, 2010\, Australia
CATEGORIES:Community,Connect Group,Fellowship-All
ATTACH;FMTTYPE=image/png:https://sydney.lutheran.org.au/wp-content/uploads/2024/04/Community-3.png
GEO:-33.8755724;151.2129371
X-APPLE-STRUCTURED-LOCATION;VALUE=URI;X-ADDRESS=St Paul’s Sydney Lutheran Church 3 Stanley Street Darlinghurst NSW 2010 Australia;X-APPLE-RADIUS=500;X-TITLE=3 Stanley Street:geo:151.2129371,-33.8755724
END:VEVENT
BEGIN:VEVENT
DTSTART;TZID=Australia/Sydney:20230517T155120
DTEND;TZID=Australia/Sydney:20230517T155120
DTSTAMP:20260420T043130
CREATED:20220902T065414Z
LAST-MODIFIED:20260310T045120Z
UID:10001265-1684338680-1684338680@sydney.lutheran.org.au
SUMMARY:Church Council
DESCRIPTION:Church Council meets monthly usually on the 3rd Wednesday of the month \nIf you have business to raise with church council email – pastor@stpaulssydney.org \n 
URL:https://sydney.lutheran.org.au/event/church-council-2/2023-05-17/
LOCATION:St Paul’s Sydney Lutheran Church\, 3 Stanley Street\, Darlinghurst\, NSW\, 2010\, Australia
CATEGORIES:Church Council
ATTACH;FMTTYPE=image/jpeg:https://sydney.lutheran.org.au/wp-content/uploads/2018/07/Church-Council-Meeting.jpg
GEO:-33.8755724;151.2129371
X-APPLE-STRUCTURED-LOCATION;VALUE=URI;X-ADDRESS=St Paul’s Sydney Lutheran Church 3 Stanley Street Darlinghurst NSW 2010 Australia;X-APPLE-RADIUS=500;X-TITLE=3 Stanley Street:geo:151.2129371,-33.8755724
END:VEVENT
BEGIN:VEVENT
DTSTART;TZID=Australia/Sydney:20230419T155120
DTEND;TZID=Australia/Sydney:20230419T155120
DTSTAMP:20260420T043131
CREATED:20220902T065414Z
LAST-MODIFIED:20260310T045120Z
UID:10001264-1681919480-1681919480@sydney.lutheran.org.au
SUMMARY:Church Council
DESCRIPTION:Church Council meets monthly usually on the 3rd Wednesday of the month \nIf you have business to raise with church council email – pastor@stpaulssydney.org \n 
URL:https://sydney.lutheran.org.au/event/church-council-2/2023-04-19/
LOCATION:St Paul’s Sydney Lutheran Church\, 3 Stanley Street\, Darlinghurst\, NSW\, 2010\, Australia
CATEGORIES:Church Council
ATTACH;FMTTYPE=image/jpeg:https://sydney.lutheran.org.au/wp-content/uploads/2018/07/Church-Council-Meeting.jpg
GEO:-33.8755724;151.2129371
X-APPLE-STRUCTURED-LOCATION;VALUE=URI;X-ADDRESS=St Paul’s Sydney Lutheran Church 3 Stanley Street Darlinghurst NSW 2010 Australia;X-APPLE-RADIUS=500;X-TITLE=3 Stanley Street:geo:151.2129371,-33.8755724
END:VEVENT
BEGIN:VEVENT
DTSTART;TZID=Australia/Sydney:20230315T155120
DTEND;TZID=Australia/Sydney:20230315T155120
DTSTAMP:20260420T043131
CREATED:20220902T065414Z
LAST-MODIFIED:20260310T045120Z
UID:10001263-1678895480-1678895480@sydney.lutheran.org.au
SUMMARY:Church Council
DESCRIPTION:Church Council meets monthly usually on the 3rd Wednesday of the month \nIf you have business to raise with church council email – pastor@stpaulssydney.org \n 
URL:https://sydney.lutheran.org.au/event/church-council-2/2023-03-15/
LOCATION:St Paul’s Sydney Lutheran Church\, 3 Stanley Street\, Darlinghurst\, NSW\, 2010\, Australia
CATEGORIES:Church Council
ATTACH;FMTTYPE=image/jpeg:https://sydney.lutheran.org.au/wp-content/uploads/2018/07/Church-Council-Meeting.jpg
GEO:-33.8755724;151.2129371
X-APPLE-STRUCTURED-LOCATION;VALUE=URI;X-ADDRESS=St Paul’s Sydney Lutheran Church 3 Stanley Street Darlinghurst NSW 2010 Australia;X-APPLE-RADIUS=500;X-TITLE=3 Stanley Street:geo:151.2129371,-33.8755724
END:VEVENT
BEGIN:VEVENT
DTSTART;TZID=Australia/Sydney:20221116T155120
DTEND;TZID=Australia/Sydney:20221116T155120
DTSTAMP:20260420T043131
CREATED:20220902T065414Z
LAST-MODIFIED:20260310T045120Z
UID:10001262-1668613880-1668613880@sydney.lutheran.org.au
SUMMARY:Church Council
DESCRIPTION:Church Council meets monthly usually on the 3rd Wednesday of the month \nIf you have business to raise with church council email – pastor@stpaulssydney.org \n 
URL:https://sydney.lutheran.org.au/event/church-council-2/2022-11-16/
LOCATION:St Paul’s Sydney Lutheran Church\, 3 Stanley Street\, Darlinghurst\, NSW\, 2010\, Australia
CATEGORIES:Church Council
ATTACH;FMTTYPE=image/jpeg:https://sydney.lutheran.org.au/wp-content/uploads/2018/07/Church-Council-Meeting.jpg
GEO:-33.8755724;151.2129371
X-APPLE-STRUCTURED-LOCATION;VALUE=URI;X-ADDRESS=St Paul’s Sydney Lutheran Church 3 Stanley Street Darlinghurst NSW 2010 Australia;X-APPLE-RADIUS=500;X-TITLE=3 Stanley Street:geo:151.2129371,-33.8755724
END:VEVENT
BEGIN:VEVENT
DTSTART;TZID=Australia/Sydney:20221019T155120
DTEND;TZID=Australia/Sydney:20221019T155120
DTSTAMP:20260420T043131
CREATED:20220902T065414Z
LAST-MODIFIED:20260310T045120Z
UID:10001261-1666194680-1666194680@sydney.lutheran.org.au
SUMMARY:Church Council
DESCRIPTION:Church Council meets monthly usually on the 3rd Wednesday of the month \nIf you have business to raise with church council email – pastor@stpaulssydney.org \n 
URL:https://sydney.lutheran.org.au/event/church-council-2/2022-10-19/
LOCATION:St Paul’s Sydney Lutheran Church\, 3 Stanley Street\, Darlinghurst\, NSW\, 2010\, Australia
CATEGORIES:Church Council
ATTACH;FMTTYPE=image/jpeg:https://sydney.lutheran.org.au/wp-content/uploads/2018/07/Church-Council-Meeting.jpg
GEO:-33.8755724;151.2129371
X-APPLE-STRUCTURED-LOCATION;VALUE=URI;X-ADDRESS=St Paul’s Sydney Lutheran Church 3 Stanley Street Darlinghurst NSW 2010 Australia;X-APPLE-RADIUS=500;X-TITLE=3 Stanley Street:geo:151.2129371,-33.8755724
END:VEVENT
BEGIN:VEVENT
DTSTART;TZID=Australia/Sydney:20220921T155120
DTEND;TZID=Australia/Sydney:20220921T155120
DTSTAMP:20260420T043131
CREATED:20220902T065414Z
LAST-MODIFIED:20260310T045120Z
UID:10001260-1663775480-1663775480@sydney.lutheran.org.au
SUMMARY:Church Council
DESCRIPTION:Church Council meets monthly usually on the 3rd Wednesday of the month \nIf you have business to raise with church council email – pastor@stpaulssydney.org \n 
URL:https://sydney.lutheran.org.au/event/church-council-2/2022-09-21/
LOCATION:St Paul’s Sydney Lutheran Church\, 3 Stanley Street\, Darlinghurst\, NSW\, 2010\, Australia
CATEGORIES:Church Council
ATTACH;FMTTYPE=image/jpeg:https://sydney.lutheran.org.au/wp-content/uploads/2018/07/Church-Council-Meeting.jpg
GEO:-33.8755724;151.2129371
X-APPLE-STRUCTURED-LOCATION;VALUE=URI;X-ADDRESS=St Paul’s Sydney Lutheran Church 3 Stanley Street Darlinghurst NSW 2010 Australia;X-APPLE-RADIUS=500;X-TITLE=3 Stanley Street:geo:151.2129371,-33.8755724
END:VEVENT
BEGIN:VEVENT
DTSTART;TZID=Australia/Sydney:20220913T155120
DTEND;TZID=Australia/Sydney:20220913T155120
DTSTAMP:20260420T043131
CREATED:20220902T065414Z
LAST-MODIFIED:20260310T045120Z
UID:10001259-1663084280-1663084280@sydney.lutheran.org.au
SUMMARY:Church Council
DESCRIPTION:Church Council meets monthly usually on the 3rd Wednesday of the month \nIf you have business to raise with church council email – pastor@stpaulssydney.org \n 
URL:https://sydney.lutheran.org.au/event/church-council-2/2022-09-13/
LOCATION:St Paul’s Sydney Lutheran Church\, 3 Stanley Street\, Darlinghurst\, NSW\, 2010\, Australia
CATEGORIES:Church Council
ATTACH;FMTTYPE=image/jpeg:https://sydney.lutheran.org.au/wp-content/uploads/2018/07/Church-Council-Meeting.jpg
GEO:-33.8755724;151.2129371
X-APPLE-STRUCTURED-LOCATION;VALUE=URI;X-ADDRESS=St Paul’s Sydney Lutheran Church 3 Stanley Street Darlinghurst NSW 2010 Australia;X-APPLE-RADIUS=500;X-TITLE=3 Stanley Street:geo:151.2129371,-33.8755724
END:VEVENT
END:VCALENDAR