BEGIN:VCALENDAR
VERSION:2.0
PRODID:-//Sydney St Pauls Congregation, NSW - ECPv6.15.14//NONSGML v1.0//EN
CALSCALE:GREGORIAN
METHOD:PUBLISH
X-WR-CALNAME:Sydney St Pauls Congregation, NSW
X-ORIGINAL-URL:https://sydney.lutheran.org.au
X-WR-CALDESC:Events for Sydney St Pauls Congregation, NSW
REFRESH-INTERVAL;VALUE=DURATION:PT1H
X-Robots-Tag:noindex
X-PUBLISHED-TTL:PT1H
BEGIN:VTIMEZONE
TZID:Australia/Sydney
BEGIN:STANDARD
TZOFFSETFROM:+1100
TZOFFSETTO:+1000
TZNAME:AEST
DTSTART:20210403T160000
END:STANDARD
BEGIN:DAYLIGHT
TZOFFSETFROM:+1000
TZOFFSETTO:+1100
TZNAME:AEDT
DTSTART:20211002T160000
END:DAYLIGHT
BEGIN:STANDARD
TZOFFSETFROM:+1100
TZOFFSETTO:+1000
TZNAME:AEST
DTSTART:20220402T160000
END:STANDARD
BEGIN:DAYLIGHT
TZOFFSETFROM:+1000
TZOFFSETTO:+1100
TZNAME:AEDT
DTSTART:20221001T160000
END:DAYLIGHT
BEGIN:STANDARD
TZOFFSETFROM:+1100
TZOFFSETTO:+1000
TZNAME:AEST
DTSTART:20230401T160000
END:STANDARD
BEGIN:DAYLIGHT
TZOFFSETFROM:+1000
TZOFFSETTO:+1100
TZNAME:AEDT
DTSTART:20230930T160000
END:DAYLIGHT
END:VTIMEZONE
BEGIN:VEVENT
DTSTART;TZID=Australia/Sydney:20220921T155120
DTEND;TZID=Australia/Sydney:20220921T155120
DTSTAMP:20260420T065251
CREATED:20220902T065414Z
LAST-MODIFIED:20260310T045120Z
UID:10001260-1663775480-1663775480@sydney.lutheran.org.au
SUMMARY:Church Council
DESCRIPTION:Church Council meets monthly usually on the 3rd Wednesday of the month \nIf you have business to raise with church council email – pastor@stpaulssydney.org \n 
URL:https://sydney.lutheran.org.au/event/church-council-2/2022-09-21/
LOCATION:St Paul’s Sydney Lutheran Church\, 3 Stanley Street\, Darlinghurst\, NSW\, 2010\, Australia
CATEGORIES:Church Council
ATTACH;FMTTYPE=image/jpeg:https://sydney.lutheran.org.au/wp-content/uploads/2018/07/Church-Council-Meeting.jpg
GEO:-33.8755724;151.2129371
X-APPLE-STRUCTURED-LOCATION;VALUE=URI;X-ADDRESS=St Paul’s Sydney Lutheran Church 3 Stanley Street Darlinghurst NSW 2010 Australia;X-APPLE-RADIUS=500;X-TITLE=3 Stanley Street:geo:151.2129371,-33.8755724
END:VEVENT
BEGIN:VEVENT
DTSTART;TZID=Australia/Sydney:20220913T155120
DTEND;TZID=Australia/Sydney:20220913T155120
DTSTAMP:20260420T065251
CREATED:20220902T065414Z
LAST-MODIFIED:20260310T045120Z
UID:10001259-1663084280-1663084280@sydney.lutheran.org.au
SUMMARY:Church Council
DESCRIPTION:Church Council meets monthly usually on the 3rd Wednesday of the month \nIf you have business to raise with church council email – pastor@stpaulssydney.org \n 
URL:https://sydney.lutheran.org.au/event/church-council-2/2022-09-13/
LOCATION:St Paul’s Sydney Lutheran Church\, 3 Stanley Street\, Darlinghurst\, NSW\, 2010\, Australia
CATEGORIES:Church Council
ATTACH;FMTTYPE=image/jpeg:https://sydney.lutheran.org.au/wp-content/uploads/2018/07/Church-Council-Meeting.jpg
GEO:-33.8755724;151.2129371
X-APPLE-STRUCTURED-LOCATION;VALUE=URI;X-ADDRESS=St Paul’s Sydney Lutheran Church 3 Stanley Street Darlinghurst NSW 2010 Australia;X-APPLE-RADIUS=500;X-TITLE=3 Stanley Street:geo:151.2129371,-33.8755724
END:VEVENT
END:VCALENDAR